BEGIN:VCALENDAR
VERSION:2.0
PRODID:-//Sabre//Sabre VObject 4.5.8//EN
CALSCALE:GREGORIAN
BEGIN:VTIMEZONE
TZID:Europe/Zurich
X-LIC-LOCATION:Europe/Zurich
TZURL:http://tzurl.org/zoneinfo/Europe/Zurich
BEGIN:DAYLIGHT
TZOFFSETFROM:+0100
TZOFFSETTO:+0200
TZNAME:CEST
DTSTART:19810329T020000
RRULE:FREQ=YEARLY;BYMONTH=3;BYDAY=-1SU
END:DAYLIGHT
BEGIN:STANDARD
TZOFFSETFROM:+0200
TZOFFSETTO:+0100
TZNAME:CET
DTSTART:19961027T030000
RRULE:FREQ=YEARLY;BYMONTH=10;BYDAY=-1SU
END:STANDARD
END:VTIMEZONE
BEGIN:VEVENT
UID:news561@kunstgeschichte.philhist.unibas.ch
DTSTAMP;TZID=Europe/Zurich:20260415T101824
DTSTART;TZID=Europe/Zurich:20260521T000000
SUMMARY:Living Borders
DESCRIPTION:This workshop is dedicated to the imaginaries and investigation
 s of a range of physical demarcations that are\, literally\, borders alive
  in and of themselves. It addresses borders made from biological material 
 such as skin\, shell\, crust\, membrane\, hide\, bark\, or epidermis\, but
  also artificially made ‘living’ skins and ecological borders. Bringi
 ng together knowledge from history and aesthetics\, biology\, ecology and 
 biomedical engineering the workshop interrogates the manifold ways in whic
 h humans relate to living borders\, it explores forms of imagining\, visua
 lizing and modeling living borders\, and it strives to develop new ideas a
 nd practices bridging the science-humanities divide in conceiving of livin
 g borders as simultaneously scientific and cultural objects of study.\\r\\
 nMore details to follow.
X-ALT-DESC:<p>This workshop is dedicated to the imaginaries and investigati
 ons of a range of physical demarcations that are\, literally\, borders ali
 ve in and of themselves. It addresses borders made from biological materia
 l such as skin\, shell\, crust\, membrane\, hide\, bark\, or epidermis\, b
 ut also artificially made ‘living’ skins and ecological borders.&nbsp\
 ;Bringing together knowledge from history and aesthetics\, biology\, ecolo
 gy and biomedical engineering the workshop interrogates the manifold ways 
 in which humans relate to living borders\, it explores forms of imagining\
 , visualizing and modeling living borders\, and it strives to develop new 
 ideas and practices bridging the science-humanities divide in conceiving o
 f living borders as simultaneously scientific and cultural objects of stud
 y.</p>\n<p>More details to follow.</p>
DTEND;TZID=Europe/Zurich:20260523T000000
END:VEVENT
END:VCALENDAR
